BEGIN:VCALENDAR
VERSION:2.0
PRODID:-//Squarespace Inc/Squarespace 6//v6//EN
BEGIN:VEVENT
UID:5dbf5ddf7743ac6952689e2b@squarespace.com
DTSTAMP:20191210T013928Z
DTSTART:20191231T063000Z
DTEND:20191231T125900Z
SUMMARY:New Year's Eve 
END:VEVENT
END:VCALENDAR
