BEGIN:VCALENDAR
VERSION:2.0
PRODID:-//Squarespace Inc/Squarespace 6//v6//EN
BEGIN:VEVENT
UID:5e1ea81fe723f0468c128414@squarespace.com
DTSTAMP:20200129T224810Z
DTSTART:20200214T063000Z
DTEND:20200214T113000Z
SUMMARY:Valentine’s Day Dinner at Sugarcane
END:VEVENT
END:VCALENDAR
